BEGIN:VCALENDAR
VERSION:2.0
PRODID:-//jEvents 2.0 for Joomla//EN
CALSCALE:GREGORIAN
METHOD:PUBLISH
BEGIN:VTIMEZONE
TZID:Europe/Berlin
END:VTIMEZONE
BEGIN:VEVENT
UID:b26553ac278e1e8442ca82f8d5a799ed
CATEGORIES:Fußball
CREATED:20240407T130729
SUMMARY:Fußball-Camp auf der SKG
DESCRIPTION:
DTSTAMP:20260424T041835
DTSTART;TZID=Europe/Berlin;VALUE=DATE:20240904
DTEND;TZID=Europe/Berlin;VALUE=DATE:20240907
SEQUENCE:0
TRANSP:OPAQUE
END:VEVENT
END:VCALENDAR