BEGIN:VCALENDAR
VERSION:2.0
PRODID:-//jEvents 2.0 for Joomla//EN
CALSCALE:GREGORIAN
METHOD:PUBLISH
BEGIN:VTIMEZONE
TZID:Europe/Berlin
END:VTIMEZONE
BEGIN:VEVENT
UID:00cabaab97134ae0a49d2ad0e8163d8e
CATEGORIES:Fußball
CREATED:20240407T130847
SUMMARY:Himmerreich-Cup für Bambini bis zur D-Jugend
DESCRIPTION:
DTSTAMP:20260423T220058
DTSTART;TZID=Europe/Berlin;VALUE=DATE:20241003
DTEND;TZID=Europe/Berlin;VALUE=DATE:20241004
SEQUENCE:0
TRANSP:OPAQUE
END:VEVENT
END:VCALENDAR