BEGIN:VCALENDAR
VERSION:2.0
PRODID:-//jEvents 2.0 for Joomla//EN
CALSCALE:GREGORIAN
METHOD:PUBLISH
BEGIN:VTIMEZONE
TZID:Europe/Berlin
END:VTIMEZONE
BEGIN:VEVENT
UID:5731af6a965d08366023831a560db0a4
CATEGORIES:Fußball
CREATED:20240407T131132
SUMMARY:Public Viewing auf dem Himmerreich zur EM 2024 
DESCRIPTION:Public Viewing auf dem Himmerreich zur EM 2024  (images/Aktuelles_Pos7/SKG_
 PublicViewing_EM_2024.pdf)\n\n\n\n
X-ALT-DESC;FMTTYPE=text/html:<p><a href="images/Aktuelles_Pos7/SKG_PublicViewing_EM_2024.pdf" target="_b
 lank">Public Viewing auf dem Himmerreich zur EM 2024 </a><br /><br /><br />
 </p>
DTSTAMP:20260424T115955
DTSTART;TZID=Europe/Berlin:20240614T080000
DTEND;TZID=Europe/Berlin:20240714T170000
SEQUENCE:0
TRANSP:OPAQUE
END:VEVENT
END:VCALENDAR