BEGIN:VCALENDAR
VERSION:2.0
PRODID:-//jEvents 2.0 for Joomla//EN
CALSCALE:GREGORIAN
METHOD:PUBLISH
BEGIN:VTIMEZONE
TZID:Europe/Berlin
END:VTIMEZONE
BEGIN:VEVENT
UID:cdfda1286b381b50b3751cdf0747af88
CATEGORIES:Fußball
CREATED:20250313T080700
SUMMARY:Erste Jugendversammlung der SKG Botnang
DESCRIPTION:Erste Jugendversammlung der SKG Botnang mit Wahl des ersten Jugendsprechers
 .\n
X-ALT-DESC;FMTTYPE=text/html:<p>Erste Jugendversammlung der SKG Botnang mit Wahl des ersten Jugendsprech
 ers.</p>
DTSTAMP:20260422T115046
DTSTART;TZID=Europe/Berlin;VALUE=DATE:20250718
DTEND;TZID=Europe/Berlin;VALUE=DATE:20250719
SEQUENCE:0
TRANSP:OPAQUE
END:VEVENT
END:VCALENDAR